BEGIN:VCALENDAR
VERSION:2.0
PRODID:-//Harlow Pride - ECPv6.15.20//NONSGML v1.0//EN
CALSCALE:GREGORIAN
METHOD:PUBLISH
X-ORIGINAL-URL:https://www.harlowpride.org.uk
X-WR-CALDESC:Events for Harlow Pride
REFRESH-INTERVAL;VALUE=DURATION:PT1H
X-Robots-Tag:noindex
X-PUBLISHED-TTL:PT1H
BEGIN:VTIMEZONE
TZID:UTC
BEGIN:STANDARD
TZOFFSETFROM:+0000
TZOFFSETTO:+0000
TZNAME:UTC
DTSTART:20220101T000000
END:STANDARD
END:VTIMEZONE
BEGIN:VEVENT
DTSTART;TZID=UTC:20241012T120000
DTEND;TZID=UTC:20241012T170000
DTSTAMP:20260422T100608
CREATED:20240718T162004Z
LAST-MODIFIED:20240718T162822Z
UID:860-1728734400-1728752400@www.harlowpride.org.uk
SUMMARY:Harlow Pride
DESCRIPTION:Introducing our big Pride event on Saturday 12th October in The Harvey Centre. Come and be entertained all afternoon by Ruby Violet\, Maddie Cole and many local artists and resident companies. Stetsons to the ready with our Dolly tribute! Lots of information stalls and crafters. Face paint and glitter! Henna Tattoos\, rainbow merch. Refreshments from Phoenix Live and Geek Retreat. Come and BE!
URL:https://www.harlowpride.org.uk/event/harlow-pride/
LOCATION:The Harvey Centre\, Harlow\, CM20 1XR
END:VEVENT
BEGIN:VEVENT
DTSTART;TZID=UTC:20240920T190000
DTEND;TZID=UTC:20240920T230000
DTSTAMP:20260422T100608
CREATED:20240913T172500Z
LAST-MODIFIED:20240913T172853Z
UID:927-1726858800-1726873200@www.harlowpride.org.uk
SUMMARY:Quiz Night
DESCRIPTION:Join us for another of our fun quiz nights raising funds for our Big Pride Event. Tickets on the door. Message via our socials to reserve a table. Come as a team or alone and we will buddy you up!
URL:https://www.harlowpride.org.uk/event/quiz-night-3/
LOCATION:Phoenix Live\, Unit 43\, The Terrace\, Harvey Centre\, Harlow\, Essex\, CM201XP\, United Kingdom
END:VEVENT
BEGIN:VEVENT
DTSTART;TZID=UTC:20240628T112228
DTEND;TZID=UTC:20240628T112228
DTSTAMP:20260422T100608
CREATED:20240421T165113Z
LAST-MODIFIED:20240628T112228Z
UID:766-1719573748-1719573748@www.harlowpride.org.uk
SUMMARY:Harlow Pride 2024
DESCRIPTION:
URL:https://www.harlowpride.org.uk/event/pride-in-the-park-2024/
LOCATION:Essex
END:VEVENT
BEGIN:VEVENT
DTSTART;TZID=UTC:20240605T080000
DTEND;TZID=UTC:20240605T220000
DTSTAMP:20260422T100608
CREATED:20240601T190308Z
LAST-MODIFIED:20240601T190308Z
UID:807-1717574400-1717624800@www.harlowpride.org.uk
SUMMARY:Pride Lounge Aid-Cycle Marathon
DESCRIPTION:Novo Lounge have set Harlow Pride as their Lounge Aid for June\, Pride month. Novo Lounge will be completing a cycle marathon in store with the local PURE GYM in Harlow who have kindly partnered with Novo Lounge to make this fun day happen. Pop in to see Novo Lounge colleagues cycling from 9am-10pm on Wednesday 5th June. All donations will go towards Harlow Pride. So come say hello or help us out and have a go. \nNovo Lounge are preparing events to support Harlow Pride each Wednesday through June.
URL:https://www.harlowpride.org.uk/event/pride-lounge-aid-cycle-marathon/
LOCATION:Novo Lounge\, Unit 3.2 The Water Gardens\, Harlow\, Essex\, CM20 1AN
END:VEVENT
BEGIN:VEVENT
DTSTART;TZID=UTC:20240511T193000
DTEND;TZID=UTC:20240511T233000
DTSTAMP:20260422T100608
CREATED:20240421T161830Z
LAST-MODIFIED:20240421T161830Z
UID:762-1715455800-1715470200@www.harlowpride.org.uk
SUMMARY:Eurovision Party
DESCRIPTION:Come join us for a night of music\, fun\, and Eurovision excitement! Get ready to dance\, sing along\, and cheer for your favorite acts from across Europe\, via the live stream. Whether you’re a die-hard Eurovision fan or just looking for a good time\, this event is for you. Don’t miss out on the chance to experience the magic of Eurovision with fellow fans. See you there! Bar provided by Phoenix Live and food can be ordered from Geek Retreat.
URL:https://www.harlowpride.org.uk/event/eurovision-party/
LOCATION:Phoenix Live\, Unit 43\, The Terrace\, Harvey Centre\, Harlow\, Essex\, CM201XP\, United Kingdom
END:VEVENT
BEGIN:VEVENT
DTSTART;TZID=UTC:20240419T190000
DTEND;TZID=UTC:20240419T220000
DTSTAMP:20260422T100608
CREATED:20240220T190944Z
LAST-MODIFIED:20240220T191142Z
UID:757-1713553200-1713564000@www.harlowpride.org.uk
SUMMARY:Quiz Night
DESCRIPTION:Harlow Pride Quiz Night \nCome join us for a fun-filled evening at Phoenix Live in Harlow\, UK! Test your knowledge and have a blast with friends old and new. Show off your smarts and maybe even win some cool prizes in our raffle! Get ready for a night of laughter\, friendly competition\, and community spirit. Don’t miss out on this exciting event celebrating Pride in Harlow! \nBook tickets through Eventbrite link\, or reserve your place by email lgbtq.harlow@gmail.com and pay on the door.
URL:https://www.harlowpride.org.uk/event/quiz-night-2/
LOCATION:Phoenix Live\, Unit 43\, The Terrace\, Harvey Centre\, Harlow\, Essex\, CM201XP\, United Kingdom
END:VEVENT
BEGIN:VEVENT
DTSTART;TZID=UTC:20240323T080000
DTEND;TZID=UTC:20240323T170000
DTSTAMP:20260422T100608
CREATED:20240220T160209Z
LAST-MODIFIED:20240220T160209Z
UID:754-1711180800-1711213200@www.harlowpride.org.uk
SUMMARY:The Butterfly Effect WELLbeing Event
DESCRIPTION:
URL:https://www.harlowpride.org.uk/event/the-butterfly-effect-wellbeing-event/
LOCATION:The Butterfly Effect wellbeing Centre\, Latton Bush Centre\, The Bungalow\,\, Harlow\, Essex\, CM18 7BL
END:VEVENT
BEGIN:VEVENT
DTSTART;TZID=UTC:20240126T193000
DTEND;TZID=UTC:20240126T223000
DTSTAMP:20260422T100608
CREATED:20240103T181111Z
LAST-MODIFIED:20240103T181111Z
UID:708-1706297400-1706308200@www.harlowpride.org.uk
SUMMARY:January Social at Novo Lounge Water Gardens Harlow
DESCRIPTION:Happy New Year! Join us for our first monthly social at Novo Lounge! Everyone welcome.
URL:https://www.harlowpride.org.uk/event/january-social-at-novo-lounge-water-gardens-harlow/
LOCATION:Essex
END:VEVENT
BEGIN:VEVENT
DTSTART;TZID=UTC:20231013T193000
DTEND;TZID=UTC:20231013T230000
DTSTAMP:20260422T100608
CREATED:20230921T155946Z
LAST-MODIFIED:20230921T160300Z
UID:465-1697225400-1697238000@www.harlowpride.org.uk
SUMMARY:Quiz Night
DESCRIPTION:
URL:https://www.harlowpride.org.uk/event/quiz-night/
LOCATION:Phoenix Live\, Unit 43\, The Terrace\, Harvey Centre\, Harlow\, Essex\, CM201XP\, United Kingdom
END:VEVENT
BEGIN:VEVENT
DTSTART;TZID=UTC:20230805T120000
DTEND;TZID=UTC:20230805T170000
DTSTAMP:20260422T100608
CREATED:20230725T161908Z
LAST-MODIFIED:20230725T161908Z
UID:159-1691236800-1691254800@www.harlowpride.org.uk
SUMMARY:Pride in the Park
DESCRIPTION:The first Pride in Harlow. Come to Pride in the Park and celebrate with live entertainment\, including two fabulous drag superstars – Fanny Galore and Ruby Violet\, face painting\, music and much\, much more!
URL:https://www.harlowpride.org.uk/event/pride-in-the-park/
LOCATION:Harlow Town Park Bandstand\, Harlow Town Park\, Harlow\, CM20 2QQ
END:VEVENT
END:VCALENDAR